BEGIN:VCALENDAR
VERSION:2.0
PRODID:-//Library Market//iCal Export//EN
BEGIN:VEVENT
SUMMARY:Juggling &amp; Mayhem Show with Matt Tardy
UID:31530
DTSTAMP:20260422T111400Z
DTSTART:20260623T190000Z
DTEND:20260623T194500Z
LOCATION:Cedar Park Public Library, 425 S. Parkwest Dr., Cedar Park, TX 78
 613, United States
ROOM: Event Space
DESCRIPTION:Get ready for a whirlwind of fun! Join us for an amazing juggl
 ing show with the incredible Matt Tardy. Expect laughter, amazement, and i
 nteractive fun that will keep everyone on the edge of their seats. Mark yo
 ur calendars and bring your energy. Don’t miss out! This event is for a
 ges 5-12 with an adult caregiver. Younger siblings are welcome.Space is li
 mited. First come, first served. This event will repeat at 3:00 p.m.Due to
  limited space, we are not able to accommodate groups with more than 10 ch
 ildren at this event.
URL:https://cedarparkpl.librarycalendar.com/event/hold-kids-event-31530
END:VEVENT
END:VCALENDAR
