BEGIN:VCALENDAR
VERSION:2.0
PRODID:-//Library Market//iCal Export//EN
BEGIN:VEVENT
SUMMARY:Tween Maker&#039;s Class 2: Squishy Sharks [Full Access Card]
UID:35205
DTSTAMP:20260424T065700Z
DTSTART:20260707T190000Z
DTEND:20260707T200000Z
LOCATION:Cedar Park Public Library, 425 S. Parkwest Dr., Cedar Park, TX 78
 613, United States
ROOM: Messy Makerspace (no equipment)
DESCRIPTION:This time, using 2-part squishy polymer we will make a squishy
  shark to celebrate shark week. Registrants must be able to attend class 1
  and class 2 on July 6 and July 7. This class is for ages 8-12 only. Only 
 participating tweens should register. 
URL:https://cedarparkpl.librarycalendar.com/event/tween-makers-class-1-squ
 ishy-sharks-full-access-card-35205
END:VEVENT
END:VCALENDAR
