BEGIN:VCALENDAR
VERSION:2.0
PRODID:-//Library Market//iCal Export//EN
BEGIN:VEVENT
SUMMARY:Introduction to Sharks
UID:40452
DTSTAMP:20260424T025300Z
DTSTART:20260709T230000Z
DTEND:20260710T000000Z
LOCATION:Cedar Park Public Library, 425 S. Parkwest Dr., Cedar Park, TX 78
 613, United States
ROOM: Event Space
DESCRIPTION:Join us for a FIN-tastic virtual presentation by Sharks4Kids! 
 These experts will offer attendees a general overview of sharks, explain t
 he important role these predators play in their ecosystems, and how anyone
  can become a shark enthusiast. We will also have shark coloring and activ
 ity pages. 
URL:https://cedarparkpl.librarycalendar.com/event/introduction-sharks-4045
 2
END:VEVENT
END:VCALENDAR
