BEGIN:VCALENDAR
VERSION:2.0
PRODID:-//Library Market//iCal Export//EN
BEGIN:VEVENT
SUMMARY:Sketch &amp; Draw Club (18+ only)
UID:41540
DTSTAMP:20260424T025300Z
DTSTART:20260706T193000Z
DTEND:20260706T210000Z
LOCATION:Cedar Park Public Library, 425 S. Parkwest Dr., Cedar Park, TX 78
 613, United States
ROOM: Event Space
DESCRIPTION:
URL:https://cedarparkpl.librarycalendar.com/event/sketch-draw-club-41540
END:VEVENT
END:VCALENDAR
